BEGIN:VCALENDAR
VERSION:2.0
PRODID:-//CGKblijven//Kerkelijke Vergaderingen//NL
BEGIN:VEVENT
UID:cgkblijven-vergadering-1@cgkblijven.nl
DTSTAMP:20260426T044301Z
DTSTART;VALUE=DATE:20260521
SUMMARY:Classis-in-opbouw Zuid
DESCRIPTION:Roepende kerk: Dordrecht-Centrum
LOCATION:
END:VEVENT
END:VCALENDAR