BEGIN:VCALENDAR
VERSION:2.0
PRODID:-//CGKblijven//Kerkelijke Vergaderingen//NL
BEGIN:VEVENT
UID:cgkblijven-vergadering-2@cgkblijven.nl
DTSTAMP:20260426T044411Z
DTSTART;VALUE=DATE:20260519
SUMMARY:Classis-in-opbouw West
DESCRIPTION:Roepende kerk: Den Haag-Scheveningen / Thaborkerk
LOCATION:
END:VEVENT
END:VCALENDAR