BEGIN:VCALENDAR
VERSION:2.0
PRODID:-//CGKblijven//Kerkelijke Vergaderingen//NL
BEGIN:VEVENT
UID:cgkblijven-vergadering-3@cgkblijven.nl
DTSTAMP:20260426T044416Z
DTSTART;VALUE=DATE:20260526
SUMMARY:Classis-in-opbouw Noord
DESCRIPTION:Roepende kerk: Urk (Maranatha)
LOCATION:
END:VEVENT
END:VCALENDAR