BEGIN:VCALENDAR
VERSION:2.0
PRODID:-//CGKblijven//Kerkelijke Vergaderingen//NL
BEGIN:VEVENT
UID:cgkblijven-vergadering-4@cgkblijven.nl
DTSTAMP:20260426T044659Z
DTSTART;VALUE=DATE:20260604
SUMMARY:Classis-in-opbouw Oost
DESCRIPTION:Roepende kerk: Noordeloos
LOCATION:
END:VEVENT
END:VCALENDAR